BEGIN:VCALENDAR
VERSION:2.0
PRODID:-//eventon.com NONSGML v1.0//EN
CALSCALE:GREGORIAN
METHOD:PUBLISH
BEGIN:VEVENT
UID:69e74e36c8f85
DTSTAMP:20260421T101518Z
DTSTART:20250128
DTEND:20250129
LOCATION:
SUMMARY:Radnički klub: Između nas
DESCRIPTION:U Galeriji Muzeja savremene umjetnosti Crne Gore sinoć je sve
 ano otvorena&nbsp;izložba „Radnički klub: Između nas“\,  čije su a
 utorke&nbsp;Adrijana Gvozdenović i Nela Gligorović\,  a kustoskinja izlo
 be je&nbsp;Teodora Nikčević. U svom obraćanju publici Nikčević je ist
 akla da se na ovom projektu ne radi o konvencionalnoj &nbsp;razmjeni na rel
 aciji rad-posmatrač\,  već o mnogo[..]\nhttps://msucg.me/events/radnicki-
 klub-izmedu-nas/
URL:https://msucg.me/events/radnicki-klub-izmedu-nas/
END:VEVENT
END:VCALENDAR